BEGIN:VCALENDAR
VERSION:2.0
METHOD:PUBLISH
BEGIN:VEVENT
UID:WILD_APRICOT_EVENT_2692966_SESSION_1
DTSTART:20171203T030000Z
DTEND:20171203T080000Z
SUMMARY:Chidlow Tavern beyondblue Charity Car Cruise
LOCATION:Chidlow Tavern\, Thomas Street\, Chidlow
DESCRIPTION:https://www.bmwclubwa.asn.au/event-2692966\n\nBMW Club WA is participating in the beyondblue Charity Car Cruise to the Chidlow Tavern\, where we have organised a lunch booking for 25 members and families.\n  We will gather at Stirling Gardens in Guildford from 9.00 am for a 9.30 am drive-off on our own morning cruise to arrive at Chidlow by about 11 am\, All members' cars are welcome but blue cars will lead the convoy and will have special parking set aside at Chidlow.\n  There will be a Blue Car Show'N'Shine\, an auction of local arts and craft items and a live band will be playing throughout the afternoon.\n  It is requested that each participating car donate $20 to beyondblue and participate in the activities to help make the day a success.\n  RSVPs will be required to book a seat at the club lunch table by a reply to the club email we will shortly send about the event.\n\n
DTSTAMP:20190228T230051Z
END:VEVENT
END:VCALENDAR
