BEGIN:VCALENDAR
VERSION:2.0
METHOD:PUBLISH
BEGIN:VEVENT
UID:WILD_APRICOT_EVENT_2757853_SESSION_1
DTSTART:20180324T013000Z
DTEND:20180324T043000Z
SUMMARY:Technical Morning with Westcoast BMW
LOCATION:Westcoast BMW\, 17 Luisini Drive\, Wangara
DESCRIPTION:https://www.bmwclubwa.asn.au/event-2757853\n\nA look at BMW’s world famous technology and expertise thanks to our friends at Westcoast BMW. Find out about current developments and innovations from their Service Manager\, and Master Technician.  \n  Please note event registrations have now closed. \n  \n\n
DTSTAMP:20190228T225916Z
END:VEVENT
END:VCALENDAR
