BEGIN:VCALENDAR
VERSION:2.0
METHOD:PUBLISH
BEGIN:VEVENT
UID:WILD_APRICOT_EVENT_2817000_SESSION_1
DTSTART:20180601T010000Z
DTEND:20180604T100000Z
SUMMARY:Long Weekend Away - Albany via Pemberton
LOCATION:Albany\, via the Southwest and Great Southern
DESCRIPTION:https://www.bmwclubwa.asn.au/event-2817000\n\nThe June Long Weekend Away to the Albany Classic Vintage Sportscar Races around the Town and the Hill Climb event.\n  A tour through the Great Southern Region as a Club group on the June long weekend\, overnighting in Pemberton\,to take in the vintage sports car racing in Albany and all the sights\, sounds and tastes of the region.\n  Registrations will be required for bookings at accommodation and restaurants but initially\, if you would like to express your interest in going on the run\, please contact: president@bmwclubwa.asn.au .\n  Fore more information visit The Albany Classic website: www.albanyclassic.com\n
DTSTAMP:20190228T225744Z
END:VEVENT
END:VCALENDAR
