BEGIN:VCALENDAR
VERSION:2.0
METHOD:PUBLISH
BEGIN:VEVENT
UID:WILD_APRICOT_EVENT_2817003_SESSION_1
DTSTART:20180225T023000Z
DTEND:20180225T070000Z
SUMMARY:Summer Lunch on the Coast
LOCATION:Dome Cafe\, Medina Parade\, Port Coogee
DESCRIPTION:https://www.bmwclubwa.asn.au/event-2817003\n\nJoin us for an outdoor lunch in the courtyard at Dome Cafe\, on Medina Parade\, Port Coogee on Sunday 25 February.\n\nWe have made a booking for 12 noon at the cafe and have organised a starting point for a coastal drive to the cafe from City Beach\, congregating there at 10.30 am for an 11.00 am start. The gathering point is in the overflow carpark in Challenger Drive\, City Beach and there will be route instructions prepared to assist you on the run to Port Coogee.Click here to save them or print them out.\n  Of course\, you don't have to take on the allocated route but can just arrive at the Dome Cafe at noon if you wish.\n  The Dome Cafe Port Coogee is BYO so members ordering a meal can bring your own wine\, beer or cider if you wish.\n\nAn RSVP will be required by replying to the Event Email that will be issued shortly. Numbers will be limited to a maximum of 30 members and family.\n
DTSTAMP:20190228T225951Z
END:VEVENT
END:VCALENDAR
