BEGIN:VCALENDAR
VERSION:2.0
METHOD:PUBLISH
BEGIN:VEVENT
UID:WILD_APRICOT_EVENT_2817004_SESSION_1
DTSTART:20180624T023000Z
DTEND:20180624T070000Z
SUMMARY:The Winter Warmer
LOCATION:Masonmill Gardens\, Carmel
DESCRIPTION:https://www.bmwclubwa.asn.au/event-2817004\n\nWander the grounds and enjoy the facilities\, then enjoy lunch in the cafe with your fellow members and partners. Or enjoy a drive in the hills before lunch.\n\n  RSVPs will be called for in due course\, for booking purposes. Respond to the Club Email when it comes.\n\n  \n\n
DTSTAMP:20190228T225733Z
END:VEVENT
END:VCALENDAR
