BEGIN:VCALENDAR
VERSION:2.0
METHOD:PUBLISH
BEGIN:VEVENT
UID:WILD_APRICOT_EVENT_2817011_SESSION_1
DTSTART:20180429T060000Z
DTEND:20180429T080000Z
SUMMARY:Classic Cars and Coffee
LOCATION:Claremont Showgrounds\, Graylands Road\, Claremont
DESCRIPTION:https://www.bmwclubwa.asn.au/event-2817011\n\nYou're invited to Cars & Coffee December! Park up your BMW with other great prestige\, specialist and collectable cars. Or just come along and enjoy the motoring eye candy! Enjoy your coffee and catch up with fellow motoring enthusiasts!\n  The Patron Beverage Company’s fabulous Citroen H-Van will be there to provide you with delicious coffee.\n  If you have friends who are car aficionados and would love to display their exotic\, classic or vintage automobiles\, please feel free to invite them along.\n  The event is free to attend.\n  DETAILS:\n  Sunday – 29 April 2018\n\n  2.00PM – 4.00PM\n  Claremont Showgrounds\, Graylands Road\, Claremont\n  For more information on the event or to get on their mailing list\, please visit classiccarsandcoffee.com\n  See you there! \n  \n\n
DTSTAMP:20260424T164130Z
END:VEVENT
END:VCALENDAR
