BEGIN:VCALENDAR
VERSION:2.0
METHOD:PUBLISH
BEGIN:VEVENT
UID:WILD_APRICOT_EVENT_2817015_SESSION_1
DTSTART:20180519T010000Z
DTEND:20180519T040000Z
SUMMARY:Club Dyno Day
LOCATION:Genie Exhaust\, Booragoon
DESCRIPTION:https://www.bmwclubwa.asn.au/event-2817015\n\nOne for the enthusiasts. Bring your project car down to Genie Exhaust at 30 Shields Crescent in Booragoon to put it on the dyno and confirm just how much power it is really putting out since you did those mods under the bonnet.\n  $50 on the day will give you a certificate that verifies that your BMW is a serious beast.\n  RSVPs will be called for a little closer to the time. Up to about 20 club cars can be accommodated. All will need good tyres (of course!) to minimise slippage on the dyno and the ability to turn off traction control (if you have it) in order to obtain the truest dyno readings.\n\n
DTSTAMP:20190228T225754Z
END:VEVENT
END:VCALENDAR
