BEGIN:VCALENDAR
VERSION:2.0
METHOD:PUBLISH
BEGIN:VEVENT
UID:WILD_APRICOT_EVENT_2833290_SESSION_1
DTSTART:20180310T100000Z
DTEND:20180310T130000Z
SUMMARY:BMW X2 Launch – Auto Classic BMW Street Festival
LOCATION:Auto Classic BMW
DESCRIPTION:https://www.bmwclubwa.asn.au/event-2833290\n\nCelebrate the launch of the first ever BMW X2 under the stars at the Auto Classic BMW Street Festival. Strictly invitation only. \n  Places limited so please register by the 28 February 2018 to president@bmwclubwa.asn.au\n  \n\n
DTSTAMP:20190228T225940Z
END:VEVENT
END:VCALENDAR
