BEGIN:VCALENDAR
VERSION:2.0
METHOD:PUBLISH
BEGIN:VEVENT
UID:WILD_APRICOT_EVENT_2850535_SESSION_1
DTSTART:20180505T013000Z
DTEND:20180505T013000Z
SUMMARY:Special General Meeting - BMW Club WA
LOCATION:Auto Classic\, Victoria Park
DESCRIPTION:https://www.bmwclubwa.asn.au/event-2850535\n\nBMW Club WA will be holding a Special General Meeting on Saturday 5 May 2018\, to which all Club members and partners are invited. The Meeting is being convened to consider and vote on a motion to change our Club Constitution.\n  Information about the need to change the constitution will be provided separately. The Motion will be the only item of business and the meeting will soon be over so\, in order to make attendance by general members more attractive\, the Committee will hold its regular Committee Meeting immediately after and members are welcome to stay and see how the Committee operates and participate in any general discussion on topics of interest. Alternatively\, members can leave at the end of the Special General Meeting and enjoy the hospitality of Auto Classic while viewing what's on display in the showroom. There are worse ways to spend your Saturday morning.\n\n
DTSTAMP:20190228T225806Z
END:VEVENT
END:VCALENDAR
