BEGIN:VCALENDAR
VERSION:2.0
METHOD:PUBLISH
BEGIN:VEVENT
UID:WILD_APRICOT_EVENT_2889081_SESSION_1
DTSTART:20181028T010000Z
DTEND:20181028T070000Z
SUMMARY:German Car Day 2018
LOCATION:Depart East Perth for Clune Park\, Bindoon
DESCRIPTION:https://www.bmwclubwa.asn.au/event-2889081\n\nAll German Car Day supported by all the German car clubs - BMW\, Mercedes Benz\, Porsche\, Audi and Volkswagen\, as well as a few German-built Fords.\n  The event costs $10 per car\, the funds raised going to the Wheels for Hope charity.\n  The plan is to meet at 9.00AM at Queens Gardens carpark in Nelson Crescent\, East Perth\, and travel to Clune Park in Bindoon where all the cars go on display\, using the route plan which will be available from the organisers on arrival at East Perth.\n  There is no need to RSVP. Just come along\, look out for fellow club members\, and enjoy the event! \n\n
DTSTAMP:20190228T225554Z
END:VEVENT
END:VCALENDAR
