BEGIN:VCALENDAR
VERSION:2.0
METHOD:PUBLISH
BEGIN:VEVENT
UID:WILD_APRICOT_EVENT_2990764_SESSION_1
DTSTART:20180722T020000Z
DTEND:20180722T073000Z
SUMMARY:Drive to York and tour of the Motor Museum
LOCATION:Departing Stirling Square\, Guildford
DESCRIPTION:https://www.bmwclubwa.asn.au/event-2990764\n\nDrive away the winter blues and join the Club run to York. The event offers an opportunity to enjoy good roads for your BMW\, a tour of the Motor Museum followed by lunch at The Palace Hotel.\n  RSVP on or before Sunday 15 July to president@bmwclubwa.asn.au if you would like to join us. \n\n  \n\n
DTSTAMP:20190228T225715Z
END:VEVENT
END:VCALENDAR
