BEGIN:VCALENDAR
VERSION:2.0
METHOD:PUBLISH
BEGIN:VEVENT
UID:WILD_APRICOT_EVENT_3122557_SESSION_1
DTSTART:20181125T020000Z
DTEND:20181125T080000Z
SUMMARY:Club Run to Serpentine Dam for Lunch
LOCATION:Serpentine Dam Cafe
DESCRIPTION:https://www.bmwclubwa.asn.au/event-3122557\n\nMembers should start the run by meeting at the Byford Tavern in Byford at 10.00 am\, then following a route on some great driving country roads through Jarrahdale and on to the Serpentine Dam Cafe for brunch/lunch.\n  The cafe is fully licensed and takes individual orders and payments so it's a low-stress club event.\n  A full map of the proposed run through the hills is here.Byford Tavern to Serpentine Dam Cafe full instructions.pdf\n\n
DTSTAMP:20190228T225508Z
END:VEVENT
END:VCALENDAR
