BEGIN:VCALENDAR
VERSION:2.0
METHOD:PUBLISH
BEGIN:VEVENT
UID:WILD_APRICOT_EVENT_3160266_SESSION_1
DTSTART:20181230T003000Z
DTEND:20181230T023000Z
SUMMARY:Classic Cars & Coffee
LOCATION:University of WA\, No 3 Car Park\, Hackett Drive\, Crawley\, WA
DESCRIPTION:https://www.bmwclubwa.asn.au/event-3160266\n\nThe final Classic Cars and Coffee meet of 2018. An informal event for BMW Club members - no registration required\, just come along on the day and enjoy the range of makes and models on display.\n  Any queries email: president@bmwclubwa.asn.au\n
DTSTAMP:20190228T225446Z
END:VEVENT
END:VCALENDAR
