BEGIN:VCALENDAR
VERSION:2.0
METHOD:PUBLISH
BEGIN:VEVENT
UID:WILD_APRICOT_EVENT_3195508_SESSION_1
DTSTART:20190324T020000Z
DTEND:20190324T070000Z
SUMMARY:Classic Car Show
LOCATION:Ascot Racecourse
DESCRIPTION:https://www.bmwclubwa.asn.au/event-3195508\n\nThe Council of Motoring Clubs is holding its annual Classic Car Show on 24 March at Ascot Racecourse\, where just about every sort of car and most car clubs will be on display.\n  A $10 entry fee (kids free) will give you access to the biggest annual display of classic cars in WA.\n  PROOF_NOV08_Council of Motoring Clubs Classic Car Show 148x210 3092142(1).pdf\n\n
DTSTAMP:20190228T225212Z
END:VEVENT
END:VCALENDAR
