BEGIN:VCALENDAR
VERSION:2.0
METHOD:PUBLISH
BEGIN:VEVENT
UID:WILD_APRICOT_EVENT_3196244_SESSION_1
DTSTART:20190323T013000Z
DTEND:20190323T043000Z
SUMMARY:Technical Morning with Westcost BMW
LOCATION:17 Luisini Drive\, Wangara
DESCRIPTION:https://www.bmwclubwa.asn.au/event-3196244\n\nA look at BMW’s world famous technology and expertise thanks to our friends at Westcoast BMW. Find out about current developments and innovations from their Service Manager\, Master Technician and specialist Parts Manager. \n  If you are interested in attending please email: president@bmwclubwa.asn.au \n  Please note arrangements currently being finalised and subject to confirmation. \n  \n\n
DTSTAMP:20190228T225201Z
END:VEVENT
END:VCALENDAR
