BEGIN:VCALENDAR
VERSION:2.0
METHOD:PUBLISH
BEGIN:VEVENT
UID:WILD_APRICOT_EVENT_3255308_SESSION_1
DTSTART:20190622T110000Z
DTEND:20190622T143000Z
SUMMARY:The Winter Burner - Curry Evening (TBC)
LOCATION:The Cove Indian Restaurant\, Alfred Cove
DESCRIPTION:https://www.bmwclubwa.asn.au/event-3255308\n\nEarly Warning!\n\n  Announcing a repeat of our popular Curry Night at the Cove Indian Restaurant\, 568 Canning Highway\, Attadale. \n  Offering an extensive menu with a wide variety of delicious Indian dishes and condiments at a cost of $38 per head for a buffet dinner\, payable on arrival. The Cove is fully licensed with very reasonable prices for drinks\, but is also BYO (wine only). They do not charge for corkage. We can accommodate up to 40 guests for this event. \n  Registrations will be called for closer to the time\n\n  Arrival time is 7.00 pm. Plenty of off-street parking at the restaurant and nearby.\n\n
DTSTAMP:20190228T225318Z
END:VEVENT
END:VCALENDAR
