BEGIN:VCALENDAR
VERSION:2.0
METHOD:PUBLISH
BEGIN:VEVENT
UID:WILD_APRICOT_EVENT_3255328_SESSION_1
DTSTART:20190526T020000Z
DTEND:20190526T090000Z
SUMMARY:Lunch at The Imperial
LOCATION:Imperial Hotel\, York
DESCRIPTION:https://www.bmwclubwa.asn.au/event-3255328\n\nThe Imperial Hotel in York has been refurbished and re-opened by a group of local owners intent on restoring it to its former glory.\n  We will leave Perth and take the long way to York\, through the southern Darling Scarp to get your driving juices flowing and prepare you for lunch in a private dining room at the Imperial on arrival.\n  A visit to the York Motor Museum will be possible before heading homewards again.\n  Registrations will be called for a little closer to the time.\n  (Some details are still to be confirmed.)\n\n
DTSTAMP:20190228T225254Z
END:VEVENT
END:VCALENDAR
