BEGIN:VCALENDAR
VERSION:2.0
METHOD:PUBLISH
BEGIN:VEVENT
UID:WILD_APRICOT_EVENT_3255336_SESSION_1
DTSTART:20190811T020000Z
DTEND:20190811T080000Z
SUMMARY:Club Display at Targa West
LOCATION:Langley Park\, Perth
DESCRIPTION:https://www.bmwclubwa.asn.au/event-3255336\n\nThe sights and sounds of eighty rally cars come to Langley Park when Targa West arrives back in town and you can have a ringside seat while they tear up and down Riverside Drive and through the Concert Hall Carpark. Just agree to put your BMW into the Club display on the grass of Langley Park and you will have unlimited access (on the safe side of the barriers) to the competition as it wraps up on Sunday afternoon.\n  A full program of rallysprint action precedes the arrival of the Targa cars\, so there is plenty to see.\n  RSVPs will be called for closer to the time.\n\n
DTSTAMP:20190228T225329Z
END:VEVENT
END:VCALENDAR
