BEGIN:VCALENDAR
VERSION:2.0
METHOD:PUBLISH
BEGIN:VEVENT
UID:WILD_APRICOT_EVENT_3255342_SESSION_1
DTSTART:20190416T110000Z
DTEND:20190416T130000Z
SUMMARY:Technical Night - The Tips and Tricks of Car Detailing (TBC)
LOCATION:In a Shed or a Showroom Somewhere
DESCRIPTION:https://www.bmwclubwa.asn.au/event-3255342\n\nDetails are a little sketchy right now but we are organising a presentation from a professional car detailer to show you how they prepare a vehicle for sale or presentation and display.\n  Learn how to prepare your BMW so that it impresses the judges at the next Show'N'Shine\, your better half or even a potential buyer.\n  Some of our more dedicated Club members may even be willing to share some of their special tips for success\, or just describe in more detail what the judges will mark you up or down for.\n\n  \n\n  \n\n
DTSTAMP:20190228T225222Z
END:VEVENT
END:VCALENDAR
