BEGIN:VCALENDAR
VERSION:2.0
METHOD:PUBLISH
BEGIN:VEVENT
UID:WILD_APRICOT_EVENT_3255346_SESSION_1
DTSTART:20190224T001500Z
DTEND:20190224T033000Z
SUMMARY:Summer Breakfast On The Coast
LOCATION:Meet at Lake Monger (Powis St Car Park)
DESCRIPTION:https://www.bmwclubwa.asn.au/event-3255346\n\n    * Meeting 8:15am - departing 8:30am\n\n  Lake Monger Carpark (Powis St entry)\n      * Location\n\n  Swell Café Mullaloo Beach\n  Booking is for 9:00am\n  \n\n  We will be meeting at the Lake Monger Car Park\, accessed from Powis St from 8:15 am and departing at 8:30 am to make our way to the Swell Café Mullaloo Beach for a 9:00 am booking.\n  The route will take us along Hale Rd\, then north along the cost past Scarborough Beach and Hillarys Boat Harbour to Mullaloo. Directions of the route will be handed out at the meeting point.\n  There are two large public car parks available at the venue.\n  We have booked a table on the enclosed veranda with views across the beach and out to sea  \n  RSVPs will be required ASAP\, to finalise off the booking. Please reply to the Event Email we send out.\n\n
DTSTAMP:20190228T225424Z
END:VEVENT
END:VCALENDAR
