BEGIN:VCALENDAR
VERSION:2.0
METHOD:PUBLISH
BEGIN:VEVENT
UID:WILD_APRICOT_EVENT_3255356_SESSION_1
DTSTART:20190316T100000Z
DTEND:20190316T113000Z
SUMMARY:Twilight at Freshwaters (TBC)
LOCATION:Freshwaters Cafe\, Manners Hill Park\, Peppermint Grove
DESCRIPTION:https://www.bmwclubwa.asn.au/event-3255356\n\nA casual get-together on the deck at Freshwaters in the late afternoon for a coffee or a sundowner.\n  Cafe style meals and take-aways are available and the rush of kids and families will have headed homewards by twilight.\n  Come for the view and stay for the company.\n  RSVPs will be called a little closer to the time.\n\n
DTSTAMP:20190228T225150Z
END:VEVENT
END:VCALENDAR
