BEGIN:VCALENDAR
VERSION:2.0
METHOD:PUBLISH
BEGIN:VEVENT
UID:WILD_APRICOT_EVENT_3257010_SESSION_1
DTSTART:20191027T020000Z
DTEND:20191027T080000Z
SUMMARY:Serpentine Sojourn (TBC)
LOCATION:Serpentine Airfield\, 286 Yangedi Road\, Hopeland WA
DESCRIPTION:https://www.bmwclubwa.asn.au/event-3257010\n\nA run to the Sport Aircraft Builders Club's Open Day at Serpentine Airfield to see the displays of a wide range of aircraft and enjoy the activities on offer.\n  More details closer to the time.\n\n
DTSTAMP:20190228T225401Z
END:VEVENT
END:VCALENDAR
