BEGIN:VCALENDAR
VERSION:2.0
METHOD:PUBLISH
BEGIN:VEVENT
UID:WILD_APRICOT_EVENT_837251_SESSION_1
DTSTART:20140518T020000Z
DTEND:20140518T100000Z
SUMMARY:British Car Day
LOCATION:Gingin
DESCRIPTION:https://www.bmwclubwa.asn.au/event-837251\n\nA Club run to Gingin to perve on the British cars on display (and maybe help tow a few of them home!)\n  The BMW Club will rendezvous at Stirling Square Park\, Meadow Street Guildford (the location of our last Show N Shine) at 10.00AM for a 10.30AM departure to Gingin.\n      We will be taking a direct route via the Swan Valley and the event promises a great range of Classic and Vintage British Cars combined with local craft\, a working model ship display and a live Rock ‘n Roll Band.\n      Please RSVP to John Slade by Sunday 11 May if you plan to travel with the group\, email:  president@bmwclubwa.asn.au.\n  \n\n  \n\n    
DTSTAMP:20190228T231749Z
END:VEVENT
END:VCALENDAR
