BEGIN:VCALENDAR
VERSION:2.0
METHOD:PUBLISH
BEGIN:VEVENT
UID:WILD_APRICOT_EVENT_863140_SESSION_1
DTSTART:20140530T003000Z
DTEND:20140602T100000Z
SUMMARY:Long Weekend Away
LOCATION:Great Southern region (Albany\, Denmark)
DESCRIPTION:https://www.bmwclubwa.asn.au/event-863140\n\nLong Weekend Away to the Albany Classic Vintage Sportscar Race around the Town and Hill Climb events.\n \n A tour to the Great Southern as a Club group on the June long weekend\, to take in the vintage car racing in Albany and all the sights\, sounds\, smells and tastes of the region.\n \n  Departing Friday\, the tour will arrive in Pemberton in time for check-in at a motel\, then a Club dinner. On Saturday the group will drive to Albany via Walpole and an enjoyable lunch in Denmark. Sunday activities will be based around events in Albany and alternative sites\, such as wineries\, breweries\, restaurants and scenery. Monday allows plenty of time to further enjoy the region before heading homewards.\n \n Details and requirements have been circulated to those who have expressed interest in attending and numbers are about to close off. Anyone interested in being in the touring party must register by 18 March please to email: president@bmwclubwa.asn.au now.\n\n \n \n \n
DTSTAMP:20190228T231734Z
END:VEVENT
END:VCALENDAR
