BEGIN:VCALENDAR
VERSION:2.0
METHOD:PUBLISH
BEGIN:VEVENT
UID:WILD_APRICOT_EVENT_866420_SESSION_1
DTSTART:20140611T110000Z
DTEND:20140611T140000Z
SUMMARY:Little Caesar’s Gourmet Pizza Night - Mid-Week Run
LOCATION:Shop 7/ 7125 Great Eastern Hwy\, Mundaring (ph: 9295 6611)
DESCRIPTION:https://www.bmwclubwa.asn.au/event-866420\n\nMeet at Little Caesars (no bookings can be made) travel straight there for great food and company\n Start Time: 7.00PM onwards
DTSTAMP:20190228T231723Z
END:VEVENT
END:VCALENDAR
