BEGIN:VCALENDAR
VERSION:2.0
METHOD:PUBLISH
BEGIN:VEVENT
UID:WILD_APRICOT_EVENT_866438_SESSION_1
DTSTART:20140706T020000Z
DTEND:20140706T080000Z
SUMMARY:Jane Brook Estate Winery Lunch
LOCATION:Jane Brook Winery\, Swan Valley
DESCRIPTION:https://www.bmwclubwa.asn.au/event-866438\n\nEnjoy a run in the country to Jane Brook Winery for wine tasting and an enjoyable Sunday Lunch.\n \n Start Time: 10.00AM meeting at Auto Classic to leave at 10.30AM.\n \n Lunch will be the "All Fired Up" winter buffet for a fixed price of $35/head. Wines can be purchased separately from the cellar door after tasting. A complimentary wine tasting for club members has been organised for us before we sit down for lunch.\n \n Registration on the website is essential. Please note your registration will be assumed to be for two people unless you inform us otherwise. Please email redrobins@bigpond.com with your alternative numbers.\n\n
DTSTAMP:20190228T231712Z
END:VEVENT
END:VCALENDAR
