BEGIN:VCALENDAR
VERSION:2.0
METHOD:PUBLISH
BEGIN:VEVENT
UID:WILD_APRICOT_EVENT_908364_SESSION_1
DTSTART:20140828T110000Z
DTEND:20140828T140000Z
SUMMARY:Alfred's Kitchen Burger Night
LOCATION:James Street\, Guildford
DESCRIPTION:https://www.bmwclubwa.asn.au/event-908364\n\nOne of our traditional favourites\, a mid-week visit to Alfred's Kitchen Burger Bar in Guildford for a cup of soup\, a burger with the lot (including beetroot!) or a vegie burger - whatever takes your fancy.\n \n Gather around the log fire in the crisp evening air and drink BYO red wine from your own plastic cup while you enjoy the company of fellow club members\, and any other member of the public who likes to frequent Alfred's Kitchen on a winter night.\n
DTSTAMP:20190228T231628Z
END:VEVENT
END:VCALENDAR
