BEGIN:VCALENDAR
VERSION:2.0
METHOD:PUBLISH
BEGIN:VEVENT
UID:WILD_APRICOT_EVENT_908366_SESSION_1
DTSTART:20140921T010000Z
DTEND:20140921T090000Z
SUMMARY:German Car Day
LOCATION:Run starts from the Queens Gardens carpark in East Perth (corner of Plain Street and Nelson Crescent near the WACA)
DESCRIPTION:https://www.bmwclubwa.asn.au/event-908366\n\nIt's on again\, German Car Day!\n  Organised by the Mercedes Benz Club\, the run starts in Perth from the Queens Gardens car park in East Perth.\n  A navigation run\, in convoy departs the Gardens at 0930  terminating at an unknown destination\, (somewhere in Rockingham close to the Cafe strip)\n  Those planning to take part this year will need to be at the Garden's by about 0900. Cost is a reasonable $10.00 per car\, which goes to charity\n  Please view the flyer:- German_20Car_20Day_202014.jpg\n  To register to take part\, contact Stephen.Hinsley@hhbiz.com.au\n
DTSTAMP:20190228T231604Z
END:VEVENT
END:VCALENDAR
