BEGIN:VCALENDAR
VERSION:2.0
METHOD:PUBLISH
BEGIN:VEVENT
UID:WILD_APRICOT_EVENT_908368_SESSION_1
DTSTART:20141005T020000Z
DTEND:20141005T080000Z
SUMMARY:Rotary Club of Como - South Perth Car Show
LOCATION:Wesley College\, South Perth
DESCRIPTION:https://www.bmwclubwa.asn.au/event-908368\n\nThe Club will be providing a display of our cars at the South Perth Car Show\, run by the Rotary Club of Como as a charity fundraiser\, at Wesley College\, on the playing fields in Angelo Street\, South Perth Check out the associated brochure here.Flyer Colour - a5 .pdf\n \n All car clubs are invited and will be displaying a range of marques\, from street machines to old Rollers and vintage clunkers. (We'll be somewhere in the middle of that.)\n \n Displaying your car is free and the Angelo Street cafe strip is right next door. A small entry fee will be charged for non-displaying spectators and the proceeds go to charity.  Coffee\, cakes\, morning teas and lunch are all available in great choice in the nearby cafes\, so come and see the cars and bikes and enjoy the spring weather.\n\nIf you wish to show your car and support the club display\, please rsvp to admin@bmwclubwa.asn.au so we know to expect you\, and arrive at the venue around 9.00 am.\n
DTSTAMP:20190228T231540Z
END:VEVENT
END:VCALENDAR
