BEGIN:VCALENDAR
VERSION:2.0
METHOD:PUBLISH
BEGIN:VEVENT
UID:WILD_APRICOT_EVENT_908373_SESSION_1
DTSTART:20141109T020000Z
DTEND:20141109T080000Z
SUMMARY:BMW Club WA Show'N'Shine
LOCATION:Manners Hill Park\, Peppermint Grove
DESCRIPTION:https://www.bmwclubwa.asn.au/event-908373\n\nThe Annual Club Show'N'Shine is on again\, this time in the heart of Peppermint Grove at Manners Hill Park\, near Freshwater Bay.\n \n Bring your car along to display on the grass while we picnic in the park under the shade of the trees. Give your car a wash and polish before you come and have it judged - see if it's the best in its class\, or even Best Overall or the People's Choice. Prizes will be awarded.\n \n Bring your own picnic or use the nearby kiosks to purchase lunch.\n
DTSTAMP:20190228T231454Z
END:VEVENT
END:VCALENDAR
