BEGIN:VCALENDAR
VERSION:2.0
METHOD:PUBLISH
BEGIN:VEVENT
UID:WILD_APRICOT_EVENT_908382_SESSION_1
DTSTART:20141207T030000Z
DTEND:20141207T080000Z
SUMMARY:BMW Club WA Christmas Lunch and AGM
LOCATION:Houghton's Winery\, Swan Valley
DESCRIPTION:https://www.bmwclubwa.asn.au/event-908382\n\nOur annual Christmas wind-up event\, a picnic lunch under the trees at the Houghton Winery\, coupled with our Annual General Meeting.\n \n Lunch will be provided by the Club and Houghton's fine wines are available at the cellar door.  For those who wish to combine the day with a bit of B'emming beforehand\, a convoy run will start from Auto Classic at 11.00am.\n  Those who wish to go straight to Houghton's should aim to arrive by 12.30 and look for the Club banner under the big pine trees.\n\n\n \n \n
DTSTAMP:20190228T231442Z
END:VEVENT
END:VCALENDAR
